BEGIN:VCALENDAR
VERSION:2.0
PRODID:-//FREIHOF Brauerei &amp; Hofstube - ECPv6.15.17.1//NONSGML v1.0//EN
CALSCALE:GREGORIAN
METHOD:PUBLISH
X-WR-CALNAME:FREIHOF Brauerei &amp; Hofstube
X-ORIGINAL-URL:https://freihof.swiss
X-WR-CALDESC:Veranstaltungen für FREIHOF Brauerei &amp; Hofstube
REFRESH-INTERVAL;VALUE=DURATION:PT1H
X-Robots-Tag:noindex
X-PUBLISHED-TTL:PT1H
BEGIN:VTIMEZONE
TZID:UTC
BEGIN:STANDARD
TZOFFSETFROM:+0000
TZOFFSETTO:+0000
TZNAME:UTC
DTSTART:20250101T000000
END:STANDARD
END:VTIMEZONE
BEGIN:VTIMEZONE
TZID:Europe/Zurich
BEGIN:DAYLIGHT
TZOFFSETFROM:+0100
TZOFFSETTO:+0200
TZNAME:CEST
DTSTART:20250330T010000
END:DAYLIGHT
BEGIN:STANDARD
TZOFFSETFROM:+0200
TZOFFSETTO:+0100
TZNAME:CET
DTSTART:20251026T010000
END:STANDARD
BEGIN:DAYLIGHT
TZOFFSETFROM:+0100
TZOFFSETTO:+0200
TZNAME:CEST
DTSTART:20260329T010000
END:DAYLIGHT
BEGIN:STANDARD
TZOFFSETFROM:+0200
TZOFFSETTO:+0100
TZNAME:CET
DTSTART:20261025T010000
END:STANDARD
BEGIN:DAYLIGHT
TZOFFSETFROM:+0100
TZOFFSETTO:+0200
TZNAME:CEST
DTSTART:20270328T010000
END:DAYLIGHT
BEGIN:STANDARD
TZOFFSETFROM:+0200
TZOFFSETTO:+0100
TZNAME:CET
DTSTART:20271031T010000
END:STANDARD
END:VTIMEZONE
BEGIN:VEVENT
DTSTART;TZID=UTC:20260206T170000
DTEND;TZID=UTC:20260206T190000
DTSTAMP:20260424T141317
CREATED:20230120T114617Z
LAST-MODIFIED:20251218T093850Z
UID:25527-1770397200-1770404400@freihof.swiss
SUMMARY:Platzkonzert Henauer Gugger
DESCRIPTION:Wir freuen uns\, die Henauer Gugger bei uns in der FREIHOF Bar zu begrüssen und danken bereits jetzt für die Einstimmung in die 5. Jahreszeit. Wir freuen uns auf euren Besuch.
URL:https://freihof.swiss/event/platzkonzert-henauer-gugger/
LOCATION:FREIHOF Brauerei & Hofstube\, Flawilerstrasse 46\, Gossau\, St. Gallen\, 9200\, Schweiz
CATEGORIES:Platzkonzert
ATTACH;FMTTYPE=image/jpeg:https://freihof.swiss/wp-content/uploads/2023/01/henauer-gugger.jpg
ORGANIZER;CN="FREIHOF Brauerei & Hofstube":MAILTO:info@freihof.swiss
END:VEVENT
BEGIN:VEVENT
DTSTART;TZID=UTC:20260213T193000
DTEND;TZID=UTC:20260213T230000
DTSTAMP:20260424T141317
CREATED:20251218T092557Z
LAST-MODIFIED:20260205T073400Z
UID:29713-1771011000-1771023600@freihof.swiss
SUMMARY:Schnitzelbanggen Abend
DESCRIPTION:Gossauer Schnitzelbangg-Abend\nAm Freitag\, 13. Februar ab 19:30 Uhr\, findet der Gossauer Schnitzelbanggen Abend statt. \nReservieren Sie jetzt Ihren Tisch +41 71 385 34 34 oder Reservation \nFolgende Schnitzelbanggen sind dieses Jahr mit dabei: \n\nZwei Räppler\nAlliglattohren – Flawil\nBläss –  AusserInnerrhoden\nThurgeier – Bischofszell\nTrompf-Buur – Herisau
URL:https://freihof.swiss/event/schnitzelbanggen-abend-2/
LOCATION:FREIHOF Brauerei & Hofstube\, Flawilerstrasse 46\, Gossau\, St. Gallen\, 9200\, Schweiz
CATEGORIES:Schnitzelbank
ATTACH;FMTTYPE=image/jpeg:https://freihof.swiss/wp-content/uploads/2024/01/Freihof_Drachenfest_Event_2024_web.jpg
ORGANIZER;CN="FREIHOF Brauerei & Hofstube":MAILTO:info@freihof.swiss
END:VEVENT
BEGIN:VEVENT
DTSTART;TZID=UTC:20260219T183000
DTEND;TZID=UTC:20260219T220000
DTSTAMP:20260424T141317
CREATED:20260205T151417Z
LAST-MODIFIED:20260205T152419Z
UID:29866-1771525800-1771538400@freihof.swiss
SUMMARY:Wirtschaft in der Wirtschaft
DESCRIPTION:Am 19. Februar wird’s im FREIHOF Gossau intellektuell – aber entspannt. Wir hosten die sechste Folge vom neue Gesprächsformat «Wirtschaft in der Wirtschaft» von Christoph Lanter und Wirtschaftsprofessor Mathias Binswanger. \nDiesmal im Fokus: Gemeindeautonomie – Fakt oder Fiktion? Als Gast mit dabei ist Wolfgang Giella. \nJetzt Ticket reservieren
URL:https://freihof.swiss/event/wirtschaft-in-der-wirtschaft/
LOCATION:FREIHOF Brauerei & Hofstube\, Flawilerstrasse 46\, Gossau\, St. Gallen\, 9200\, Schweiz
CATEGORIES:Platzkonzert
ATTACH;FMTTYPE=image/webp:https://freihof.swiss/wp-content/uploads/2026/02/wirtschaft-in-der-wirtschaft-freihof-gossau.webp
ORGANIZER;CN="FREIHOF Brauerei & Hofstube":MAILTO:info@freihof.swiss
END:VEVENT
BEGIN:VEVENT
DTSTART;TZID=Europe/Zurich:20260225T190000
DTEND;TZID=Europe/Zurich:20260225T190000
DTSTAMP:20260424T141317
CREATED:20251217T154047Z
LAST-MODIFIED:20251217T154047Z
UID:29683-1772046000-1772046000@freihof.swiss
SUMMARY:Bier Yoga
DESCRIPTION:Jeden letzten Mittwoch im Monat\, Start um 19.00 Uhr. \nYoga und Bier – eine ganzheitliche Kombination:\nGeniesse eine kühle Flasche FREIHOF Bier während unserer entspannenden Yoga-Lektion\, angeleitet durch Angie Küng! \n\nEs sind keine Yoga-Kenntnisse nötig.\nKosten: CHF 20.– / Yoga-Lektion.\nMatten und Bier werden zur Verfügung gestellt.\n\nBuchen Sie Ihr Ticket direkt online.\nBei Verhinderung wird Ihnen der Betrag gutgeschrieben. \nTickets
URL:https://freihof.swiss/event/bier-yoga-16/
LOCATION:FREIHOF Brauerei & Hofstube\, Flawilerstrasse 46\, Gossau\, St. Gallen\, 9200\, Schweiz
CATEGORIES:Bier Yoga
ATTACH;FMTTYPE=image/jpeg:https://freihof.swiss/wp-content/uploads/2021/07/Freihof_Bieryoga_Infoboard.jpg
ORGANIZER;CN="FREIHOF Brauerei & Hofstube":MAILTO:info@freihof.swiss
END:VEVENT
END:VCALENDAR