BEGIN:VCALENDAR
VERSION:2.0
PRODID:-//FREIHOF Brauerei &amp; Hofstube - ECPv6.15.17.1//NONSGML v1.0//EN
CALSCALE:GREGORIAN
METHOD:PUBLISH
X-WR-CALNAME:FREIHOF Brauerei &amp; Hofstube
X-ORIGINAL-URL:https://freihof.swiss
X-WR-CALDESC:Veranstaltungen für FREIHOF Brauerei &amp; Hofstube
REFRESH-INTERVAL;VALUE=DURATION:PT1H
X-Robots-Tag:noindex
X-PUBLISHED-TTL:PT1H
BEGIN:VTIMEZONE
TZID:Europe/Zurich
BEGIN:DAYLIGHT
TZOFFSETFROM:+0100
TZOFFSETTO:+0200
TZNAME:CEST
DTSTART:20250330T010000
END:DAYLIGHT
BEGIN:STANDARD
TZOFFSETFROM:+0200
TZOFFSETTO:+0100
TZNAME:CET
DTSTART:20251026T010000
END:STANDARD
BEGIN:DAYLIGHT
TZOFFSETFROM:+0100
TZOFFSETTO:+0200
TZNAME:CEST
DTSTART:20260329T010000
END:DAYLIGHT
BEGIN:STANDARD
TZOFFSETFROM:+0200
TZOFFSETTO:+0100
TZNAME:CET
DTSTART:20261025T010000
END:STANDARD
BEGIN:DAYLIGHT
TZOFFSETFROM:+0100
TZOFFSETTO:+0200
TZNAME:CEST
DTSTART:20270328T010000
END:DAYLIGHT
BEGIN:STANDARD
TZOFFSETFROM:+0200
TZOFFSETTO:+0100
TZNAME:CET
DTSTART:20271031T010000
END:STANDARD
END:VTIMEZONE
BEGIN:VEVENT
DTSTART;TZID=Europe/Zurich:20260319T190000
DTEND;TZID=Europe/Zurich:20260319T190000
DTSTAMP:20260424T124438
CREATED:20251218T093657Z
LAST-MODIFIED:20251218T093657Z
UID:29723-1773946800-1773946800@freihof.swiss
SUMMARY:Seppentag
DESCRIPTION:Donnerstag\, 19. März 2026 \n«Ein schöner Josefstag ein gutes Jahr verheissen mag.»\nWir heissen Seppen\, Josis und Josefinen\, alle Niederdörfler und viele weitere Gäste herzlich willkommen.\nGeniessen Sie einen gemütlichen Abend mit FREIHOF Kulinarik und musikalischer Begleitung. \nMusikalische Unterhaltung mit Gaudi Krainer ab 19.00 Uhr. Vorgängige Reservation empfohlen. \nReservieren Sie jetzt Ihren Tisch +41 71 385 34 34 oder Reservation
URL:https://freihof.swiss/event/seppentag-2/
LOCATION:FREIHOF Brauerei & Hofstube\, Flawilerstrasse 46\, Gossau\, St. Gallen\, 9200\, Schweiz
CATEGORIES:Seppetag
ATTACH;FMTTYPE=image/jpeg:https://freihof.swiss/wp-content/uploads/2023/12/Gaudi-Krainer.jpg
ORGANIZER;CN="FREIHOF Brauerei & Hofstube":MAILTO:info@freihof.swiss
END:VEVENT
BEGIN:VEVENT
DTSTART;TZID=Europe/Zurich:20260325T190000
DTEND;TZID=Europe/Zurich:20260325T190000
DTSTAMP:20260424T124438
CREATED:20251217T154225Z
LAST-MODIFIED:20251217T154225Z
UID:29685-1774465200-1774465200@freihof.swiss
SUMMARY:Bier Yoga
DESCRIPTION:Jeden letzten Mittwoch im Monat\, Start um 19.00 Uhr. \nYoga und Bier – eine ganzheitliche Kombination:\nGeniesse eine kühle Flasche FREIHOF Bier während unserer entspannenden Yoga-Lektion\, angeleitet durch Angie Küng! \n\nEs sind keine Yoga-Kenntnisse nötig.\nKosten: CHF 20.– / Yoga-Lektion.\nMatten und Bier werden zur Verfügung gestellt.\n\nBuchen Sie Ihr Ticket direkt online.\nBei Verhinderung wird Ihnen der Betrag gutgeschrieben. \nTickets
URL:https://freihof.swiss/event/bier-yoga-17/
LOCATION:FREIHOF Brauerei & Hofstube\, Flawilerstrasse 46\, Gossau\, St. Gallen\, 9200\, Schweiz
CATEGORIES:Bier Yoga
ATTACH;FMTTYPE=image/jpeg:https://freihof.swiss/wp-content/uploads/2021/07/Freihof_Bieryoga_Infoboard.jpg
ORGANIZER;CN="FREIHOF Brauerei & Hofstube":MAILTO:info@freihof.swiss
END:VEVENT
END:VCALENDAR