BEGIN:VCALENDAR
VERSION:2.0
PRODID:-//FREIHOF Brauerei &amp; Hofstube - ECPv6.15.17.1//NONSGML v1.0//EN
CALSCALE:GREGORIAN
METHOD:PUBLISH
X-ORIGINAL-URL:https://freihof.swiss
X-WR-CALDESC:Veranstaltungen für FREIHOF Brauerei &amp; Hofstube
REFRESH-INTERVAL;VALUE=DURATION:PT1H
X-Robots-Tag:noindex
X-PUBLISHED-TTL:PT1H
BEGIN:VTIMEZONE
TZID:Europe/Zurich
BEGIN:DAYLIGHT
TZOFFSETFROM:+0100
TZOFFSETTO:+0200
TZNAME:CEST
DTSTART:20250330T010000
END:DAYLIGHT
BEGIN:STANDARD
TZOFFSETFROM:+0200
TZOFFSETTO:+0100
TZNAME:CET
DTSTART:20251026T010000
END:STANDARD
BEGIN:DAYLIGHT
TZOFFSETFROM:+0100
TZOFFSETTO:+0200
TZNAME:CEST
DTSTART:20260329T010000
END:DAYLIGHT
BEGIN:STANDARD
TZOFFSETFROM:+0200
TZOFFSETTO:+0100
TZNAME:CET
DTSTART:20261025T010000
END:STANDARD
BEGIN:DAYLIGHT
TZOFFSETFROM:+0100
TZOFFSETTO:+0200
TZNAME:CEST
DTSTART:20270328T010000
END:DAYLIGHT
BEGIN:STANDARD
TZOFFSETFROM:+0200
TZOFFSETTO:+0100
TZNAME:CET
DTSTART:20271031T010000
END:STANDARD
END:VTIMEZONE
BEGIN:VEVENT
DTSTART;TZID=Europe/Zurich:20260502T140000
DTEND;TZID=Europe/Zurich:20260502T140000
DTSTAMP:20260424T124438
CREATED:20251218T124808Z
LAST-MODIFIED:20260331T123716Z
UID:29727-1777730400-1777730400@freihof.swiss
SUMMARY:Tanz am Freihof\, Day Dance 2026
DESCRIPTION:Samstag\, 2. Mai 2026\n14.00 – 23.00 Uhr\nDayrave und Biergarten? Oh yes\, oh yes\, im Freihof hat dieses Phänomen bereits Kultstatus und wir freuen uns wie verrückt mit euch das nächste Jahr des Tanz am Freihof einzuläuten. Wir freuen uns sogar so sehr\, dass wir wieder die volle Kapelle aufbieten: \n\nJungle Stage (Minimal House / Tech-House)\nMain Stage (Melodic / Techno) 🚀\nBier-Yoga 🧘🏻\nBier-Minigolf ⛳️\nBier-Pong Area 🍻\n\nEs wird also wieder ein absolutes Spektakel – irgendwo zwischen einem gemütlichen Sommertag und der absoluten Ekstase. \nShuttle\nDank der neuen Bushaltestelle „Gossau SG\, Niederdorf“ gelangt ihr mit der Linie B150 im Halbstunden-Takt (00 / 30) vom Bahnhof Gossau bequem zum Freihof. \nLine up\nAvatton // Casa Ombak // Joker Jaxx // Kollektiv 94 // LoVis // Mr. Smooothie // Piponur // SUPER ANTI HERO \nGenre\nTech-House // House // Melodic // Techno \nEinlass\n20+ \nWetter/Verschiebung\nDer Rave findet nur bei guter Witterung statt. Bei Regen oder Unwetter wird auf den Samstag\, 16. Mai 2026 verschoben. Tickets können im Falle einer Verschiebung innerhalb von 3 Tagen nach Bekanntgabe zurückerstattet werden. \nRückerstattungen\nTicket Rückerstattungen erfolgen nur bei einer Verschiebung bzw. Absage. \nTickets\nSichert euch jetzt die Tickets und spürt die Magie des Tanz am Freihof. ✨ Tickets sind hier erhältlich.
URL:https://freihof.swiss/event/tanz-am-freihof-day-dance-2026/
LOCATION:FREIHOF Brauerei & Hofstube\, Flawilerstrasse 46\, Gossau\, St. Gallen\, 9200\, Schweiz
CATEGORIES:Day Dance
ATTACH;FMTTYPE=image/jpeg:https://freihof.swiss/wp-content/uploads/2025/12/daydance-freihof-gossau-5.jpg
ORGANIZER;CN="FREIHOF Brauerei & Hofstube":MAILTO:info@freihof.swiss
END:VEVENT
BEGIN:VEVENT
DTSTART;TZID=Europe/Zurich:20260527T190000
DTEND;TZID=Europe/Zurich:20260527T190000
DTSTAMP:20260424T124438
CREATED:20251217T154428Z
LAST-MODIFIED:20251217T154428Z
UID:29689-1779908400-1779908400@freihof.swiss
SUMMARY:Bier Yoga
DESCRIPTION:Jeden letzten Mittwoch im Monat\, Start um 19.00 Uhr. \nYoga und Bier – eine ganzheitliche Kombination:\nGeniesse eine kühle Flasche FREIHOF Bier während unserer entspannenden Yoga-Lektion\, angeleitet durch Angie Küng! \n\nEs sind keine Yoga-Kenntnisse nötig.\nKosten: CHF 20.– / Yoga-Lektion.\nMatten und Bier werden zur Verfügung gestellt.\n\nBuchen Sie Ihr Ticket direkt online.\nBei Verhinderung wird Ihnen der Betrag gutgeschrieben. \nTickets
URL:https://freihof.swiss/event/bier-yoga-19/
LOCATION:FREIHOF Brauerei & Hofstube\, Flawilerstrasse 46\, Gossau\, St. Gallen\, 9200\, Schweiz
CATEGORIES:Bier Yoga
ATTACH;FMTTYPE=image/jpeg:https://freihof.swiss/wp-content/uploads/2021/07/Freihof_Bieryoga_Infoboard.jpg
ORGANIZER;CN="FREIHOF Brauerei & Hofstube":MAILTO:info@freihof.swiss
END:VEVENT
END:VCALENDAR