BEGIN:VCALENDAR
VERSION:2.0
PRODID:-//FREIHOF Brauerei &amp; Hofstube - ECPv6.15.17.1//NONSGML v1.0//EN
CALSCALE:GREGORIAN
METHOD:PUBLISH
X-WR-CALNAME:FREIHOF Brauerei &amp; Hofstube
X-ORIGINAL-URL:https://freihof.swiss
X-WR-CALDESC:Veranstaltungen für FREIHOF Brauerei &amp; Hofstube
REFRESH-INTERVAL;VALUE=DURATION:PT1H
X-Robots-Tag:noindex
X-PUBLISHED-TTL:PT1H
BEGIN:VTIMEZONE
TZID:UTC
BEGIN:STANDARD
TZOFFSETFROM:+0000
TZOFFSETTO:+0000
TZNAME:UTC
DTSTART:20250101T000000
END:STANDARD
END:VTIMEZONE
BEGIN:VTIMEZONE
TZID:Europe/Zurich
BEGIN:DAYLIGHT
TZOFFSETFROM:+0100
TZOFFSETTO:+0200
TZNAME:CEST
DTSTART:20250330T010000
END:DAYLIGHT
BEGIN:STANDARD
TZOFFSETFROM:+0200
TZOFFSETTO:+0100
TZNAME:CET
DTSTART:20251026T010000
END:STANDARD
BEGIN:DAYLIGHT
TZOFFSETFROM:+0100
TZOFFSETTO:+0200
TZNAME:CEST
DTSTART:20260329T010000
END:DAYLIGHT
BEGIN:STANDARD
TZOFFSETFROM:+0200
TZOFFSETTO:+0100
TZNAME:CET
DTSTART:20261025T010000
END:STANDARD
BEGIN:DAYLIGHT
TZOFFSETFROM:+0100
TZOFFSETTO:+0200
TZNAME:CEST
DTSTART:20270328T010000
END:DAYLIGHT
BEGIN:STANDARD
TZOFFSETFROM:+0200
TZOFFSETTO:+0100
TZNAME:CET
DTSTART:20271031T010000
END:STANDARD
END:VTIMEZONE
BEGIN:VEVENT
DTSTART;TZID=UTC:20260614T100000
DTEND;TZID=UTC:20260614T114500
DTSTAMP:20260424T141327
CREATED:20260421T061828Z
LAST-MODIFIED:20260421T063417Z
UID:30145-1781431200-1781437500@freihof.swiss
SUMMARY:Eulach Musikanten ZH
DESCRIPTION:Blasmusik von Herzen – jeden Sonntag für Jedermann\n10.00 – 11.45 Uhr im FREIHOF-Biergarten. \nBei schlechter Witterung werden die Konzerte in die Bar oder Hofstube verlegt\, freier Eintritt!
URL:https://freihof.swiss/event/eulach-musikanten-zh-2026/
LOCATION:FREIHOF Brauerei & Hofstube\, Flawilerstrasse 46\, Gossau\, St. Gallen\, 9200\, Schweiz
CATEGORIES:Biergarten-Konzerte,Frühschoppen-Konzerte
ATTACH;FMTTYPE=image/jpeg:https://freihof.swiss/wp-content/uploads/2024/03/Eulach_Musikanten.jpg
ORGANIZER;CN="FREIHOF Brauerei & Hofstube":MAILTO:info@freihof.swiss
END:VEVENT
BEGIN:VEVENT
DTSTART;TZID=UTC:20260621T100000
DTEND;TZID=UTC:20260621T114500
DTSTAMP:20260424T141327
CREATED:20260421T062127Z
LAST-MODIFIED:20260421T062127Z
UID:30147-1782036000-1782042300@freihof.swiss
SUMMARY:Polkaholic St.Gallenkappel
DESCRIPTION:Blasmusik von Herzen im FREIHOF-Biergarten. \nKein Ersatz bei schlechter Witterung. \nEintritt frei\, Reservation empfohlen.
URL:https://freihof.swiss/event/polkaholic-st-gallenkappel/
LOCATION:FREIHOF Brauerei & Hofstube\, Flawilerstrasse 46\, Gossau\, St. Gallen\, 9200\, Schweiz
CATEGORIES:Biergarten-Konzerte
ATTACH;FMTTYPE=image/jpeg:https://freihof.swiss/wp-content/uploads/2021/05/polkaholic_sg_freihof-hofstube-brauerei.jpg
ORGANIZER;CN="FREIHOF Brauerei & Hofstube":MAILTO:info@freihof.swiss
END:VEVENT
BEGIN:VEVENT
DTSTART;TZID=Europe/Zurich:20260624T190000
DTEND;TZID=Europe/Zurich:20260624T190000
DTSTAMP:20260424T141327
CREATED:20251217T154720Z
LAST-MODIFIED:20251217T154720Z
UID:29691-1782327600-1782327600@freihof.swiss
SUMMARY:Bier Yoga
DESCRIPTION:Jeden letzten Mittwoch im Monat\, Start um 19.00 Uhr. \nYoga und Bier – eine ganzheitliche Kombination:\nGeniesse eine kühle Flasche FREIHOF Bier während unserer entspannenden Yoga-Lektion\, angeleitet durch Angie Küng! \n\nEs sind keine Yoga-Kenntnisse nötig.\nKosten: CHF 20.– / Yoga-Lektion.\nMatten und Bier werden zur Verfügung gestellt.\n\nBuchen Sie Ihr Ticket direkt online.\nBei Verhinderung wird Ihnen der Betrag gutgeschrieben. \nTickets
URL:https://freihof.swiss/event/bier-yoga-20/
LOCATION:FREIHOF Brauerei & Hofstube\, Flawilerstrasse 46\, Gossau\, St. Gallen\, 9200\, Schweiz
CATEGORIES:Bier Yoga
ATTACH;FMTTYPE=image/jpeg:https://freihof.swiss/wp-content/uploads/2021/07/Freihof_Bieryoga_Infoboard.jpg
ORGANIZER;CN="FREIHOF Brauerei & Hofstube":MAILTO:info@freihof.swiss
END:VEVENT
END:VCALENDAR