BEGIN:VCALENDAR
VERSION:2.0
PRODID:-//FREIHOF Brauerei &amp; Hofstube - ECPv6.15.17.1//NONSGML v1.0//EN
CALSCALE:GREGORIAN
METHOD:PUBLISH
X-WR-CALNAME:FREIHOF Brauerei &amp; Hofstube
X-ORIGINAL-URL:https://freihof.swiss
X-WR-CALDESC:Veranstaltungen für FREIHOF Brauerei &amp; Hofstube
REFRESH-INTERVAL;VALUE=DURATION:PT1H
X-Robots-Tag:noindex
X-PUBLISHED-TTL:PT1H
BEGIN:VTIMEZONE
TZID:Europe/Zurich
BEGIN:DAYLIGHT
TZOFFSETFROM:+0100
TZOFFSETTO:+0200
TZNAME:CEST
DTSTART:20250330T010000
END:DAYLIGHT
BEGIN:STANDARD
TZOFFSETFROM:+0200
TZOFFSETTO:+0100
TZNAME:CET
DTSTART:20251026T010000
END:STANDARD
BEGIN:DAYLIGHT
TZOFFSETFROM:+0100
TZOFFSETTO:+0200
TZNAME:CEST
DTSTART:20260329T010000
END:DAYLIGHT
BEGIN:STANDARD
TZOFFSETFROM:+0200
TZOFFSETTO:+0100
TZNAME:CET
DTSTART:20261025T010000
END:STANDARD
BEGIN:DAYLIGHT
TZOFFSETFROM:+0100
TZOFFSETTO:+0200
TZNAME:CEST
DTSTART:20270328T010000
END:DAYLIGHT
BEGIN:STANDARD
TZOFFSETFROM:+0200
TZOFFSETTO:+0100
TZNAME:CET
DTSTART:20271031T010000
END:STANDARD
END:VTIMEZONE
BEGIN:VEVENT
DTSTART;TZID=Europe/Zurich:20260930T190000
DTEND;TZID=Europe/Zurich:20260930T190000
DTSTAMP:20260424T181308
CREATED:20251217T154859Z
LAST-MODIFIED:20251217T154859Z
UID:29697-1790794800-1790794800@freihof.swiss
SUMMARY:Bier Yoga
DESCRIPTION:Jeden letzten Mittwoch im Monat\, Start um 19.00 Uhr. \nYoga und Bier – eine ganzheitliche Kombination:\nGeniesse eine kühle Flasche FREIHOF Bier während unserer entspannenden Yoga-Lektion\, angeleitet durch Angie Küng! \n\nEs sind keine Yoga-Kenntnisse nötig.\nKosten: CHF 20.– / Yoga-Lektion.\nMatten und Bier werden zur Verfügung gestellt.\n\nBuchen Sie Ihr Ticket direkt online.\nBei Verhinderung wird Ihnen der Betrag gutgeschrieben. \nTickets
URL:https://freihof.swiss/event/bier-yoga-23/
LOCATION:FREIHOF Brauerei & Hofstube\, Flawilerstrasse 46\, Gossau\, St. Gallen\, 9200\, Schweiz
CATEGORIES:Bier Yoga
ATTACH;FMTTYPE=image/jpeg:https://freihof.swiss/wp-content/uploads/2021/07/Freihof_Bieryoga_Infoboard.jpg
ORGANIZER;CN="FREIHOF Brauerei & Hofstube":MAILTO:info@freihof.swiss
END:VEVENT
END:VCALENDAR